BEGIN:VCALENDAR
VERSION:2.0
PRODID:-//Claude Le Dû Geobiologie Bioenergie - ECPv6.13.2.1//NONSGML v1.0//EN
CALSCALE:GREGORIAN
METHOD:PUBLISH
X-ORIGINAL-URL:https://claude-ledu-geo-bio-energie.fr
X-WR-CALDESC:Évènements pour Claude Le Dû Geobiologie Bioenergie
REFRESH-INTERVAL;VALUE=DURATION:PT1H
X-Robots-Tag:noindex
X-PUBLISHED-TTL:PT1H
BEGIN:VTIMEZONE
TZID:Europe/Helsinki
BEGIN:DAYLIGHT
TZOFFSETFROM:+0200
TZOFFSETTO:+0300
TZNAME:EEST
DTSTART:20260329T010000
END:DAYLIGHT
BEGIN:STANDARD
TZOFFSETFROM:+0300
TZOFFSETTO:+0200
TZNAME:EET
DTSTART:20261025T010000
END:STANDARD
END:VTIMEZONE
BEGIN:VEVENT
DTSTART;VALUE=DATE:20260215
DTEND;VALUE=DATE:20260217
DTSTAMP:20260420T101859
CREATED:20260113T211331Z
LAST-MODIFIED:20260113T213256Z
UID:1599-1771113600-1771286399@claude-ledu-geo-bio-energie.fr
SUMMARY:ENERGIES - Module 1- Conscience de soi et Energies des lieux
DESCRIPTION:ENERGIES – Intuition est ressentis\nConnaissance du corps énergétique \, de ses potentiels et Energie des lieux \n  \n \n– Champ vital\, Blocages\, parasitages\, fuites énergétiques\, objets karmiques. \n– Travail sur ses ressentis et ses potentiels\, travail sur les énergies du corps et de la terre\n– Ancrages et protections (âmes\, entités\,…) \n \n  \nCe stage est destiné à tous ceux qui veulent prendre pleine conscience de leur corps énergétique  et de ses potentiels\, des énergies de la terre et des lieux\, et apprendre à se « nettoyer » énergétiquement et à se ré harmoniser \n \nDimanche 15 Lundi 16 février 2026 (La Haie Fouassière 44)\nInformations et réservations Claude LE DU Tarif :300€\nTel 0673111355 claudeledu2@gmail.com
URL:https://claude-ledu-geo-bio-energie.fr/event/energies-module-1-conscience-de-soi-et-energies-des-lieux/
LOCATION:LOIRE ATLANTIQUE
CATEGORIES:STAGE BIOENERGIES
ATTACH;FMTTYPE=image/jpeg:https://claude-ledu-geo-bio-energie.fr/wp-content/uploads/2024/04/riviere-fenetre-scaled.jpg
END:VEVENT
END:VCALENDAR