BEGIN:VCALENDAR
VERSION:2.0
PRODID:-//Claude Le Dû Geobiologie Bioenergie - ECPv6.13.2.1//NONSGML v1.0//EN
CALSCALE:GREGORIAN
METHOD:PUBLISH
X-WR-CALNAME:Claude Le Dû Geobiologie Bioenergie
X-ORIGINAL-URL:https://claude-ledu-geo-bio-energie.fr
X-WR-CALDESC:Évènements pour Claude Le Dû Geobiologie Bioenergie
REFRESH-INTERVAL;VALUE=DURATION:PT1H
X-Robots-Tag:noindex
X-PUBLISHED-TTL:PT1H
BEGIN:VTIMEZONE
TZID:Europe/Helsinki
BEGIN:DAYLIGHT
TZOFFSETFROM:+0200
TZOFFSETTO:+0300
TZNAME:EEST
DTSTART:20230326T010000
END:DAYLIGHT
BEGIN:STANDARD
TZOFFSETFROM:+0300
TZOFFSETTO:+0200
TZNAME:EET
DTSTART:20231029T010000
END:STANDARD
END:VTIMEZONE
BEGIN:VEVENT
DTSTART;VALUE=DATE:20230622
DTEND;VALUE=DATE:20230624
DTSTAMP:20260424T194704
CREATED:20181127T095636Z
LAST-MODIFIED:20230120T172228Z
UID:1188-1687392000-1687564799@claude-ledu-geo-bio-energie.fr
SUMMARY:BIOENERGIE- Module 2-ENERGIES DE GUERISON
DESCRIPTION:BIOENERGIE -Module 2- Energies de guérison\nConnaissance et utilisation des énergies \nSOIN ENERGETIQUE\n-Augmenter ses potentiels bioénergétiques \n-Lithothérapie intuitive\, sons\, couleurs \nLITHOTHERAPIE OPALE\n-Energies de la nature à usage de soins \nSOURCE IRLANDE\n– Travail avec les rayons sacrés\n-Merkaba\, systèmes de nettoyage \nJeudi 22 vendredi 23 juin 2023 – Loire Atlantique\nInformations et réservations Claude LE DU Tarif : 260€\nTel 0673111355 claudeledu2@gmail.com
URL:https://claude-ledu-geo-bio-energie.fr/event/energies-de-guerison-module-2-6/
LOCATION:LOIRE ATLANTIQUE
CATEGORIES:STAGE BIOENERGIES
ATTACH;FMTTYPE=image/jpeg:https://claude-ledu-geo-bio-energie.fr/wp-content/uploads/2023/01/SOIN-ENERGETIQUE.jpg
END:VEVENT
END:VCALENDAR