BEGIN:VCALENDAR
VERSION:2.0
PRODID:-//Claude Le Dû Geobiologie Bioenergie - ECPv6.13.2.1//NONSGML v1.0//EN
CALSCALE:GREGORIAN
METHOD:PUBLISH
X-WR-CALNAME:Claude Le Dû Geobiologie Bioenergie
X-ORIGINAL-URL:https://claude-ledu-geo-bio-energie.fr
X-WR-CALDESC:Évènements pour Claude Le Dû Geobiologie Bioenergie
REFRESH-INTERVAL;VALUE=DURATION:PT1H
X-Robots-Tag:noindex
X-PUBLISHED-TTL:PT1H
BEGIN:VTIMEZONE
TZID:Europe/Helsinki
BEGIN:DAYLIGHT
TZOFFSETFROM:+0200
TZOFFSETTO:+0300
TZNAME:EEST
DTSTART:20230326T010000
END:DAYLIGHT
BEGIN:STANDARD
TZOFFSETFROM:+0300
TZOFFSETTO:+0200
TZNAME:EET
DTSTART:20231029T010000
END:STANDARD
END:VTIMEZONE
BEGIN:VEVENT
DTSTART;VALUE=DATE:20230324
DTEND;VALUE=DATE:20230325
DTSTAMP:20260425T003755
CREATED:20181127T090759Z
LAST-MODIFIED:20230120T164642Z
UID:1168-1679616000-1679702399@claude-ledu-geo-bio-energie.fr
SUMMARY:ESPRITS DE LA NATURE
DESCRIPTION:Journée Contact avec les esprits de la nature\n  \nJournée nature\n  \n– Rencontre avec différentes énergies de la nature \n-Eléments et Elémentaux\n– « Communication »  avec les énergies \n-Utilisation des « outils » pendules et baguettes\n– Actions sur le champ vital\n-Notions de soins et auto soins \nespace nature\n  \n  \nVendredi 24 MARS 2023\nde 9h30 à 17h30 Tarif : 75 €\nInformations et réservations \nClaude LE DU  Tel 0673111355 claudeledu2@gmail.com
URL:https://claude-ledu-geo-bio-energie.fr/event/esprits-de-nature-20/
LOCATION:LOIRE ATLANTIQUE
CATEGORIES:STAGE NATURE
ATTACH;FMTTYPE=image/jpeg:https://claude-ledu-geo-bio-energie.fr/wp-content/uploads/2016/05/P1010014-e1674119792197.jpg
END:VEVENT
END:VCALENDAR