BEGIN:VCALENDAR
VERSION:2.0
PRODID:-//Claude Le Dû Geobiologie Bioenergie - ECPv6.13.2.1//NONSGML v1.0//EN
CALSCALE:GREGORIAN
METHOD:PUBLISH
X-ORIGINAL-URL:https://claude-ledu-geo-bio-energie.fr
X-WR-CALDESC:Évènements pour Claude Le Dû Geobiologie Bioenergie
REFRESH-INTERVAL;VALUE=DURATION:PT1H
X-Robots-Tag:noindex
X-PUBLISHED-TTL:PT1H
BEGIN:VTIMEZONE
TZID:Europe/Helsinki
BEGIN:DAYLIGHT
TZOFFSETFROM:+0200
TZOFFSETTO:+0300
TZNAME:EEST
DTSTART:20230326T010000
END:DAYLIGHT
BEGIN:STANDARD
TZOFFSETFROM:+0300
TZOFFSETTO:+0200
TZNAME:EET
DTSTART:20231029T010000
END:STANDARD
END:VTIMEZONE
BEGIN:VEVENT
DTSTART;TZID=Europe/Helsinki:20230220T090000
DTEND;TZID=Europe/Helsinki:20230222T170000
DTSTAMP:20260425T022313
CREATED:20181127T095333Z
LAST-MODIFIED:20230120T165652Z
UID:1183-1676883600-1677085200@claude-ledu-geo-bio-energie.fr
SUMMARY:FORMATION "A LA CARTE" SOI ET CHOIX !
DESCRIPTION:Formation sur « A LA CARTE » Soi et choix : Bioénergie Energie des lieux et de la nature \nProgramme adapté à la volonté de chacun de 1 à 3 jours\, de 1 à 4 personnes\, possible partout en France \n-Champ vital et paramètres énergétiques \n-Pollutions énergétiques \nMEDITATION ET PENSEE CREATRICE\n– Formes pensées et pensée créative \n– Sources de pollutions telluriques et cosmo telluriques : eau souterraine\, faille\, réseaux\, cheminées\, vortex.. \n– Sources de pollutions électriques\, électro magnétiques\, ondes diverses \nMEGALITHES CARNAC\n–  Utilisation du pendule\, des baguettes et affinage de ses perceptions (clair ressenti) \nDate possible (mais  adapatable ) 20 au 22 février 2023  ( Loire Atlantique)\nInformations et réservations claudeledu2@gmail.com 06 73 11 13 55 \nTarif : suivant durée\, programme et nb de personnes de 130€ à 190€ par jour et par personne(hors déplacement et hébergement)\nTel 0673111355 claudeledu2@gmail.com
URL:https://claude-ledu-geo-bio-energie.fr/event/formation-a-carte-5/
LOCATION:LOIRE ATLANTIQUE
CATEGORIES:STAGE BIOENERGIES,STAGE GEOBIOLOGIE
ATTACH;FMTTYPE=image/jpeg:https://claude-ledu-geo-bio-energie.fr/wp-content/uploads/2018/11/CHEMIN-ARBRE-SOLEIL.jpg
END:VEVENT
END:VCALENDAR